BEGIN:VCALENDAR
VERSION:2.0
PRODID:LFV Website-Kit
METHOD:PUBLISH
BEGIN:VEVENT
UID:lfv-6d196c40-7728-4bc5-b862-17055ffb930b
LOCATION:
SUMMARY:Gerätekunde & Pflege
DESCRIPTION:Termin Link: https://www.ffw-obernbreit.de/feuerwehr/termine/geratekunde-pflege-4/
URL:https://www.ffw-obernbreit.de/feuerwehr/termine/geratekunde-pflege-4/
CLASS:PRIVATE
DTSTART;TZID=Europe/Berlin:20260428T190000
DTEND;TZID=Europe/Berlin:20260428T210000
DTSTAMP:20260420T102529Z
END:VEVENT
END:VCALENDAR