BEGIN:VCALENDAR
VERSION:2.0
PRODID:LFV Website-Kit
METHOD:PUBLISH
BEGIN:VEVENT
UID:lfv-cc96662e-750e-46da-bd93-e275f16e7f1f
LOCATION:
SUMMARY:Gerätekunde & Pflege
DESCRIPTION:Termin Link: https://www.ffw-obernbreit.de/feuerwehr/termine/geratekunde-pflege-5/
URL:https://www.ffw-obernbreit.de/feuerwehr/termine/geratekunde-pflege-5/
CLASS:PRIVATE
DTSTART;TZID=Europe/Berlin:20260623T190000
DTEND;TZID=Europe/Berlin:20260623T210000
DTSTAMP:20260420T102219Z
END:VEVENT
END:VCALENDAR