BEGIN:VCALENDAR
VERSION:2.0
PRODID:LFV Website-Kit
METHOD:PUBLISH
BEGIN:VEVENT
UID:lfv-352ef66c-fd30-475a-8f7c-3f5292a680c4
LOCATION:
SUMMARY:Gerätekunde & Pflege
DESCRIPTION:Termin Link: https://www.ffw-obernbreit.de/feuerwehr/termine/geratekunde-pflege-6/
URL:https://www.ffw-obernbreit.de/feuerwehr/termine/geratekunde-pflege-6/
CLASS:PRIVATE
DTSTART;TZID=Europe/Berlin:20260721T190000
DTEND;TZID=Europe/Berlin:20260721T210000
DTSTAMP:20260422T102919Z
END:VEVENT
END:VCALENDAR