BEGIN:VCALENDAR
VERSION:2.0
PRODID:LFV Website-Kit
METHOD:PUBLISH
BEGIN:VEVENT
UID:lfv-be8e9a6f-fbe6-4b46-91e9-55114ffbca05
LOCATION:
SUMMARY:Gerätekunde & Pflege
DESCRIPTION:Termin Link: https://www.ffw-obernbreit.de/feuerwehr/termine/geratekunde-pflege-7/
URL:https://www.ffw-obernbreit.de/feuerwehr/termine/geratekunde-pflege-7/
CLASS:PRIVATE
DTSTART;TZID=Europe/Berlin:20261124T190000
DTEND;TZID=Europe/Berlin:20261124T210000
DTSTAMP:20260420T094826Z
END:VEVENT
END:VCALENDAR