BEGIN:VCALENDAR
VERSION:2.0
PRODID:LFV Website-Kit
METHOD:PUBLISH
BEGIN:VEVENT
UID:lfv-874d7873-2eda-454c-ae55-cd66ed494357
LOCATION:
SUMMARY:Maschinistenschulung
DESCRIPTION:Termin Link: https://www.ffw-obernbreit.de/feuerwehr/termine/maschinistenschulung-2/
URL:https://www.ffw-obernbreit.de/feuerwehr/termine/maschinistenschulung-2/
CLASS:PRIVATE
DTSTART;TZID=Europe/Berlin:20260620T090000
DTEND;TZID=Europe/Berlin:20260620T130000
DTSTAMP:20260420T103557Z
END:VEVENT
END:VCALENDAR