BEGIN:VCALENDAR
VERSION:2.0
PRODID:LFV Website-Kit
METHOD:PUBLISH
BEGIN:VEVENT
UID:lfv-b7c1d992-0c29-4662-ac09-87f97f739e42
LOCATION:
SUMMARY:Monatsübung August
DESCRIPTION:Termin Link: https://www.ffw-obernbreit.de/feuerwehr/termine/monatsubung-august-2/
URL:https://www.ffw-obernbreit.de/feuerwehr/termine/monatsubung-august-2/
CLASS:PRIVATE
DTSTART;TZID=Europe/Berlin:20260804T193000
DTEND;TZID=Europe/Berlin:20260804T210000
DTSTAMP:20260420T101927Z
END:VEVENT
END:VCALENDAR