BEGIN:VCALENDAR
VERSION:2.0
PRODID:LFV Website-Kit
METHOD:PUBLISH
BEGIN:VEVENT
UID:lfv-ccfd2eba-c851-4765-8d83-400e19615350
LOCATION:
SUMMARY:Monatsübung Dezember
DESCRIPTION:Termin Link: https://www.ffw-obernbreit.de/feuerwehr/termine/monatsubung-dezember-1/
URL:https://www.ffw-obernbreit.de/feuerwehr/termine/monatsubung-dezember-1/
CLASS:PRIVATE
DTSTART;TZID=Europe/Berlin:20261201T193000
DTEND;TZID=Europe/Berlin:20261201T210000
DTSTAMP:20260420T102727Z
END:VEVENT
END:VCALENDAR