BEGIN:VCALENDAR
VERSION:2.0
PRODID:LFV Website-Kit
METHOD:PUBLISH
BEGIN:VEVENT
UID:lfv-cb25e15c-572f-4950-96d7-955a7ca7e933
LOCATION:
SUMMARY:Monatsübung Juli
DESCRIPTION:Termin Link: https://www.ffw-obernbreit.de/feuerwehr/termine/monatsubung-juli-1/
URL:https://www.ffw-obernbreit.de/feuerwehr/termine/monatsubung-juli-1/
CLASS:PRIVATE
DTSTART;TZID=Europe/Berlin:20260707T193000
DTEND;TZID=Europe/Berlin:20260707T210000
DTSTAMP:20260420T102022Z
END:VEVENT
END:VCALENDAR