BEGIN:VCALENDAR
VERSION:2.0
PRODID:LFV Website-Kit
METHOD:PUBLISH
BEGIN:VEVENT
UID:lfv-fd0623f8-4838-4419-ae01-7ea11f80385b
LOCATION:
SUMMARY:Monatsübung Juni
DESCRIPTION:Termin Link: https://www.ffw-obernbreit.de/feuerwehr/termine/monatsubung-juni-1/
URL:https://www.ffw-obernbreit.de/feuerwehr/termine/monatsubung-juni-1/
CLASS:PRIVATE
DTSTART;TZID=Europe/Berlin:20260609T193000
DTEND;TZID=Europe/Berlin:20260609T210000
DTSTAMP:20260420T102323Z
END:VEVENT
END:VCALENDAR