BEGIN:VCALENDAR
VERSION:2.0
PRODID:LFV Website-Kit
METHOD:PUBLISH
BEGIN:VEVENT
UID:lfv-8cadb492-9a6a-4d9e-bb0b-9a9cc6c5e163
LOCATION:
SUMMARY:Monatsübung Mai
DESCRIPTION:Termin Link: https://www.ffw-obernbreit.de/feuerwehr/termine/monatsubung-mai-1/
URL:https://www.ffw-obernbreit.de/feuerwehr/termine/monatsubung-mai-1/
CLASS:PRIVATE
DTSTART;TZID=Europe/Berlin:20260512T193000
DTEND;TZID=Europe/Berlin:20260512T210000
DTSTAMP:20260420T101616Z
END:VEVENT
END:VCALENDAR