BEGIN:VCALENDAR
VERSION:2.0
PRODID:LFV Website-Kit
METHOD:PUBLISH
BEGIN:VEVENT
UID:lfv-5c7765d5-e408-4340-87e5-0270a20da226
LOCATION:
SUMMARY:Monatsübung November
DESCRIPTION:Termin Link: https://www.ffw-obernbreit.de/feuerwehr/termine/monatsubung-november-1/
URL:https://www.ffw-obernbreit.de/feuerwehr/termine/monatsubung-november-1/
CLASS:PRIVATE
DTSTART;TZID=Europe/Berlin:20261110T193000
DTEND;TZID=Europe/Berlin:20261110T210000
DTSTAMP:20260422T102001Z
END:VEVENT
END:VCALENDAR