BEGIN:VCALENDAR
VERSION:2.0
PRODID:LFV Website-Kit
METHOD:PUBLISH
BEGIN:VEVENT
UID:lfv-687beee8-9540-4e2f-9d58-0036c81dbd25
LOCATION:
SUMMARY:Monatsübung Oktober
DESCRIPTION:Termin Link: https://www.ffw-obernbreit.de/feuerwehr/termine/monatsubung-oktober-1/
URL:https://www.ffw-obernbreit.de/feuerwehr/termine/monatsubung-oktober-1/
CLASS:PRIVATE
DTSTART;TZID=Europe/Berlin:20261006T193000
DTEND;TZID=Europe/Berlin:20261006T210000
DTSTAMP:20260420T104547Z
END:VEVENT
END:VCALENDAR