BEGIN:VCALENDAR
VERSION:2.0
PRODID:LFV Website-Kit
METHOD:PUBLISH
BEGIN:VEVENT
UID:lfv-5e0af803-b1dd-4559-9bd7-42b2c377d0fc
LOCATION:
SUMMARY:Monatsübung September
DESCRIPTION:Termin Link: https://www.ffw-obernbreit.de/feuerwehr/termine/monatsubung-september-1/
URL:https://www.ffw-obernbreit.de/feuerwehr/termine/monatsubung-september-1/
CLASS:PRIVATE
DTSTART;TZID=Europe/Berlin:20260922T193000
DTEND;TZID=Europe/Berlin:20260922T210000
DTSTAMP:20260420T103024Z
END:VEVENT
END:VCALENDAR