BEGIN:VCALENDAR
VERSION:2.0
PRODID:LFV Website-Kit
METHOD:PUBLISH
BEGIN:VEVENT
UID:lfv-aaa4d690-cd8f-4b31-a4fa-a3d6f9e9a085
LOCATION:
SUMMARY:Sirenenprobe
DESCRIPTION:Termin Link: https://www.ffw-obernbreit.de/feuerwehr/termine/sirenenprobe-10/
URL:https://www.ffw-obernbreit.de/feuerwehr/termine/sirenenprobe-10/
CLASS:PRIVATE
DTSTART;TZID=Europe/Berlin:20260718T121500
DTEND;TZID=Europe/Berlin:20260718T124500
DTSTAMP:20260420T102749Z
END:VEVENT
END:VCALENDAR