BEGIN:VCALENDAR
VERSION:2.0
PRODID:LFV Website-Kit
METHOD:PUBLISH
BEGIN:VEVENT
UID:lfv-534cda3c-3dca-4ac7-b648-647ab96dfcd0
LOCATION:
SUMMARY:Sirenenprobe
DESCRIPTION:Termin Link: https://www.ffw-obernbreit.de/feuerwehr/termine/sirenenprobe-11/
URL:https://www.ffw-obernbreit.de/feuerwehr/termine/sirenenprobe-11/
CLASS:PRIVATE
DTSTART;TZID=Europe/Berlin:20260919T121500
DTEND;TZID=Europe/Berlin:20260919T124500
DTSTAMP:20260422T102546Z
END:VEVENT
END:VCALENDAR