BEGIN:VCALENDAR
VERSION:2.0
PRODID:LFV Website-Kit
METHOD:PUBLISH
BEGIN:VEVENT
UID:lfv-3e165053-f970-4e36-bc84-806d0b3216bc
LOCATION:
SUMMARY:Sirenenprobe
DESCRIPTION:Termin Link: https://www.ffw-obernbreit.de/feuerwehr/termine/sirenenprobe-12/
URL:https://www.ffw-obernbreit.de/feuerwehr/termine/sirenenprobe-12/
CLASS:PRIVATE
DTSTART;TZID=Europe/Berlin:20261121T121500
DTEND;TZID=Europe/Berlin:20261121T124500
DTSTAMP:20260420T101550Z
END:VEVENT
END:VCALENDAR