BEGIN:VCALENDAR
VERSION:2.0
PRODID:LFV Website-Kit
METHOD:PUBLISH
BEGIN:VEVENT
UID:lfv-60a9f3a9-5edd-423d-88c6-c34799d2123e
LOCATION:
SUMMARY:Sirenenprobe
DESCRIPTION:Termin Link: https://www.ffw-obernbreit.de/feuerwehr/termine/sirenenprobe-9/
URL:https://www.ffw-obernbreit.de/feuerwehr/termine/sirenenprobe-9/
CLASS:PRIVATE
DTSTART;TZID=Europe/Berlin:20260516T121500
DTEND;TZID=Europe/Berlin:20260516T124500
DTSTAMP:20260420T103557Z
END:VEVENT
END:VCALENDAR