BEGIN:VCALENDAR
VERSION:2.0
PRODID:LFV Website-Kit
METHOD:PUBLISH
BEGIN:VEVENT
UID:lfv-8f700d00-d226-4e97-8f9e-6baca9acd047
LOCATION:Lärchenstraße 10 97342 Obernbreit
SUMMARY:Übung für alle Aktiven
DESCRIPTION:Termin Link: https://www.ffw-obernbreit.de/feuerwehr/termine/ubung-fur-alle-aktiven-10/
URL:https://www.ffw-obernbreit.de/feuerwehr/termine/ubung-fur-alle-aktiven-10/
CLASS:PRIVATE
DTSTART;TZID=Europe/Berlin:20241203T193000
DTEND;TZID=Europe/Berlin:20241203T210000
DTSTAMP:20260421T110038Z
END:VEVENT
END:VCALENDAR